BEGIN:VCALENDAR
VERSION:2.0
PRODID:-//COSSA Institute - ECPv6.15.20//NONSGML v1.0//EN
CALSCALE:GREGORIAN
METHOD:PUBLISH
X-WR-CALNAME:COSSA Institute
X-ORIGINAL-URL:https://cossainstitute.org
X-WR-CALDESC:Events for COSSA Institute
REFRESH-INTERVAL;VALUE=DURATION:PT1H
X-Robots-Tag:noindex
X-PUBLISHED-TTL:PT1H
BEGIN:VTIMEZONE
TZID:America/Denver
BEGIN:DAYLIGHT
TZOFFSETFROM:-0700
TZOFFSETTO:-0600
TZNAME:MDT
DTSTART:20230312T090000
END:DAYLIGHT
BEGIN:STANDARD
TZOFFSETFROM:-0600
TZOFFSETTO:-0700
TZNAME:MST
DTSTART:20231105T080000
END:STANDARD
BEGIN:DAYLIGHT
TZOFFSETFROM:-0700
TZOFFSETTO:-0600
TZNAME:MDT
DTSTART:20240310T090000
END:DAYLIGHT
BEGIN:STANDARD
TZOFFSETFROM:-0600
TZOFFSETTO:-0700
TZNAME:MST
DTSTART:20241103T080000
END:STANDARD
BEGIN:DAYLIGHT
TZOFFSETFROM:-0700
TZOFFSETTO:-0600
TZNAME:MDT
DTSTART:20250309T090000
END:DAYLIGHT
BEGIN:STANDARD
TZOFFSETFROM:-0600
TZOFFSETTO:-0700
TZNAME:MST
DTSTART:20251102T080000
END:STANDARD
END:VTIMEZONE
BEGIN:VEVENT
DTSTART;TZID=America/Denver:20241118T083000
DTEND;TZID=America/Denver:20241118T151500
DTSTAMP:20260425T212845
CREATED:20241005T054925Z
LAST-MODIFIED:20241114T190046Z
UID:850-1731918600-1731942900@cossainstitute.org
SUMMARY:Solar Power & Energy Storage in Your Community Forum: Durango
DESCRIPTION:When:  November 18\, 2024\, 8:30 a.m.–3:15 p.m. (MT)\nWhere:  Fort Lewis College\, 1000 Rim Dr\, Durango\, CO 81301 \n\n\n\n\n\n\nThe COSSA Institute has a great event lined up regarding the development and impacts of large-scale solar and energy storage in Southwest Colorado and New Mexico. The symposium will take place at Fort Lewis College in Durango on November 18\, 2024. \nTo attend or learn more\, please email Adrienne Dorsey at adrienne.dorsey@cossainstitute.org. \nJoin COSSA to discuss all things solar and energy storage and help us answer the communities’ questions about large-scale solar development. We will focus on solar development as a partner in the overall community and energy transition\, the development and benefits of solar\, considerations to be made towards siting decisions and land use codes\, and much more. This event is in the format of a one-day symposium\, a mix of presentations and panel discussions from knowledgeable industry experts and local specialists. \nTopics include: \n\nFederal Legislative Updates\nIndigenous Perspectives on Energy Development\nRegional perspectives on the clean energy transition\nCommunity Engagement Best Practices\nLand Use Considerations and Best Practices\nCommunity-Led Workforce Solutions\n\nThank you to our sponsors
URL:https://cossainstitute.org/event/solar-power-energy-storage-in-your-community-forum-durango/
LOCATION:Fort Lewis College\, 1000 Rim Dr\, Durango\, CO\, CO\, 81301\, United States
CATEGORIES:Solar Power & Energy Storage in Your Community Forum
ATTACH;FMTTYPE=image/jpeg:https://cossainstitute.org/wp-content/uploads/2024/11/Durango-Forum.jpg
ORGANIZER;CN="Adrienne Dorsey":MAILTO:adrienne.dorsey@cossainstitute.org
END:VEVENT
BEGIN:VEVENT
DTSTART;TZID=America/Denver:20240917T150000
DTEND;TZID=America/Denver:20240917T170000
DTSTAMP:20260425T212845
CREATED:20240805T160833Z
LAST-MODIFIED:20241105T172138Z
UID:874-1726585200-1726592400@cossainstitute.org
SUMMARY:Solar Power & Energy Storage in Your Community Forum
DESCRIPTION:When:  September 17\, 2024\, 3:00 p.m.–5:00 p.m. (MT)\nWhere:  Ellis Allen Building – Lincoln County Fairgrounds\, 33747 County Road 2W\, Hugo\, CO 80821 \n\n\n\n\n\n\nThe COSSA Institute has a great event lined up regarding the development and impacts of large-scale solar and energy storage in Southwest Colorado and New Mexico. The symposium will take place at the Lincoln County Fairgrounds in Hugo\, Colorado\, on September 17\, 2024. \nTo attend or learn more\, please email Adrienne Dorsey at adrienne.dorsey@cossainstitute.org. \nJoin COSSA to discuss all things solar and energy storage and help us answer the communities’ questions about large-scale solar development. We will focus on solar development as a partner in the overall community and energy transition\, the development and benefits of solar\, considerations to be made towards siting decisions and land use codes\, and much more.
URL:https://cossainstitute.org/event/solar-power-energy-storage-in-your-community-forum/
LOCATION:Ellis Allen Building – Lincoln County Fairgrounds\, 33747 County Road 2W\, Hugo\, CO\, 80821\, United States
CATEGORIES:Solar Power & Energy Storage in Your Community Forum
ATTACH;FMTTYPE=image/jpeg:https://cossainstitute.org/wp-content/uploads/2024/11/Forum.jpg
ORGANIZER;CN="Adrienne Dorsey":MAILTO:adrienne.dorsey@cossainstitute.org
END:VEVENT
END:VCALENDAR